BEGIN:VCALENDAR
VERSION:2.0
PRODID:-//16e Régiment d&#039;Infanterie Légère - ECPv6.15.20//NONSGML v1.0//EN
CALSCALE:GREGORIAN
METHOD:PUBLISH
X-WR-CALNAME:16e Régiment d&#039;Infanterie Légère
X-ORIGINAL-URL:https://16e-leger.fr
X-WR-CALDESC:Évènements pour 16e Régiment d&#039;Infanterie Légère
REFRESH-INTERVAL;VALUE=DURATION:PT1H
X-Robots-Tag:noindex
X-PUBLISHED-TTL:PT1H
BEGIN:VTIMEZONE
TZID:Europe/Paris
BEGIN:DAYLIGHT
TZOFFSETFROM:+0100
TZOFFSETTO:+0200
TZNAME:CEST
DTSTART:20200329T010000
END:DAYLIGHT
BEGIN:STANDARD
TZOFFSETFROM:+0200
TZOFFSETTO:+0100
TZNAME:CET
DTSTART:20201025T010000
END:STANDARD
BEGIN:DAYLIGHT
TZOFFSETFROM:+0100
TZOFFSETTO:+0200
TZNAME:CEST
DTSTART:20210328T010000
END:DAYLIGHT
BEGIN:STANDARD
TZOFFSETFROM:+0200
TZOFFSETTO:+0100
TZNAME:CET
DTSTART:20211031T010000
END:STANDARD
BEGIN:DAYLIGHT
TZOFFSETFROM:+0100
TZOFFSETTO:+0200
TZNAME:CEST
DTSTART:20220327T010000
END:DAYLIGHT
BEGIN:STANDARD
TZOFFSETFROM:+0200
TZOFFSETTO:+0100
TZNAME:CET
DTSTART:20221030T010000
END:STANDARD
END:VTIMEZONE
BEGIN:VEVENT
DTSTART;VALUE=DATE:20210802
DTEND;VALUE=DATE:20210807
DTSTAMP:20260419T232850
CREATED:20210219T084146Z
LAST-MODIFIED:20210219T084146Z
UID:1297-1627862400-1628294399@16e-leger.fr
SUMMARY:Bivouac Napoléonien au Fort la Prée
DESCRIPTION:île de Ré
URL:https://16e-leger.fr/event/bivouac-napoleonien-au-fort-la-pree/
CATEGORIES:Bivouac
END:VEVENT
END:VCALENDAR